BEGIN:VCALENDAR
VERSION:2.0
PRODID:-// - ECPv6.15.20//NONSGML v1.0//EN
CALSCALE:GREGORIAN
METHOD:PUBLISH
X-ORIGINAL-URL:https://vecinosdelacholla.org
X-WR-CALDESC:Events for 
REFRESH-INTERVAL;VALUE=DURATION:PT1H
X-Robots-Tag:noindex
X-PUBLISHED-TTL:PT1H
BEGIN:VTIMEZONE
TZID:UTC
BEGIN:STANDARD
TZOFFSETFROM:+0000
TZOFFSETTO:+0000
TZNAME:UTC
DTSTART:20250101T000000
END:STANDARD
END:VTIMEZONE
BEGIN:VEVENT
DTSTART;TZID=UTC:20260423T090000
DTEND;TZID=UTC:20260423T100000
DTSTAMP:20260423T191410
CREATED:20260210T201731Z
LAST-MODIFIED:20260210T201731Z
UID:2870-1776934800-1776938400@vecinosdelacholla.org
SUMMARY:Exercise Class
DESCRIPTION:
URL:https://vecinosdelacholla.org/?tribe_events=exercise-class-15
END:VEVENT
BEGIN:VEVENT
DTSTART;TZID=UTC:20260423T130000
DTEND;TZID=UTC:20260423T150000
DTSTAMP:20260423T191410
CREATED:20260210T192725Z
LAST-MODIFIED:20260210T192725Z
UID:2786-1776949200-1776956400@vecinosdelacholla.org
SUMMARY:Friends of Bill W (AA)
DESCRIPTION:
URL:https://vecinosdelacholla.org/?tribe_events=friends-of-bill-w-aa-9
END:VEVENT
BEGIN:VEVENT
DTSTART;VALUE=DATE:20260424
DTEND;VALUE=DATE:20260427
DTSTAMP:20260423T191410
CREATED:20260210T195257Z
LAST-MODIFIED:20260210T195257Z
UID:2819-1776988800-1777247999@vecinosdelacholla.org
SUMMARY:CBSC Fishing Derby
DESCRIPTION:
URL:https://vecinosdelacholla.org/?tribe_events=cbsc-fishing-derby
END:VEVENT
BEGIN:VEVENT
DTSTART;TZID=UTC:20260425T170000
DTEND;TZID=UTC:20260425T230000
DTSTAMP:20260423T191410
CREATED:20260320T200708Z
LAST-MODIFIED:20260320T200708Z
UID:2923-1777136400-1777158000@vecinosdelacholla.org
SUMMARY:Angelina Soto - wedding reception
DESCRIPTION:
URL:https://vecinosdelacholla.org/?tribe_events=angelina-soto-wedding-reception
END:VEVENT
BEGIN:VEVENT
DTSTART;TZID=UTC:20260428T090000
DTEND;TZID=UTC:20260428T100000
DTSTAMP:20260423T191410
CREATED:20260210T201801Z
LAST-MODIFIED:20260210T201801Z
UID:2872-1777366800-1777370400@vecinosdelacholla.org
SUMMARY:Exercise Class
DESCRIPTION:
URL:https://vecinosdelacholla.org/?tribe_events=exercise-class-16
END:VEVENT
BEGIN:VEVENT
DTSTART;TZID=UTC:20260430T090000
DTEND;TZID=UTC:20260430T100000
DTSTAMP:20260423T191410
CREATED:20260210T202144Z
LAST-MODIFIED:20260210T202144Z
UID:2876-1777539600-1777543200@vecinosdelacholla.org
SUMMARY:Exercise Class
DESCRIPTION:
URL:https://vecinosdelacholla.org/?tribe_events=exercise-class-17
END:VEVENT
BEGIN:VEVENT
DTSTART;TZID=UTC:20260430T130000
DTEND;TZID=UTC:20260430T150000
DTSTAMP:20260423T191410
CREATED:20260210T192821Z
LAST-MODIFIED:20260210T192821Z
UID:2788-1777554000-1777561200@vecinosdelacholla.org
SUMMARY:Friends of Bill W (AA)
DESCRIPTION:
URL:https://vecinosdelacholla.org/?tribe_events=friends-of-bill-w-aa-10
END:VEVENT
END:VCALENDAR